BEGIN:VCALENDAR
VERSION:2.0
PRODID:-//The Rawls Golf Course at Texas Tech - ECPv6.15.18//NONSGML v1.0//EN
CALSCALE:GREGORIAN
METHOD:PUBLISH
X-WR-CALNAME:The Rawls Golf Course at Texas Tech
X-ORIGINAL-URL:https://www.therawlscourse.com
X-WR-CALDESC:Events for The Rawls Golf Course at Texas Tech
REFRESH-INTERVAL;VALUE=DURATION:PT1H
X-Robots-Tag:noindex
X-PUBLISHED-TTL:PT1H
BEGIN:VTIMEZONE
TZID:America/Chicago
BEGIN:DAYLIGHT
TZOFFSETFROM:-0600
TZOFFSETTO:-0500
TZNAME:CDT
DTSTART:20240310T080000
END:DAYLIGHT
BEGIN:STANDARD
TZOFFSETFROM:-0500
TZOFFSETTO:-0600
TZNAME:CST
DTSTART:20241103T070000
END:STANDARD
BEGIN:DAYLIGHT
TZOFFSETFROM:-0600
TZOFFSETTO:-0500
TZNAME:CDT
DTSTART:20250309T080000
END:DAYLIGHT
BEGIN:STANDARD
TZOFFSETFROM:-0500
TZOFFSETTO:-0600
TZNAME:CST
DTSTART:20251102T070000
END:STANDARD
BEGIN:DAYLIGHT
TZOFFSETFROM:-0600
TZOFFSETTO:-0500
TZNAME:CDT
DTSTART:20260308T080000
END:DAYLIGHT
BEGIN:STANDARD
TZOFFSETFROM:-0500
TZOFFSETTO:-0600
TZNAME:CST
DTSTART:20261101T070000
END:STANDARD
END:VTIMEZONE
BEGIN:VEVENT
DTSTART;TZID=America/Chicago:20250531T090000
DTEND;TZID=America/Chicago:20250601T105000
DTSTAMP:20260425T102856
CREATED:20250118T190216Z
LAST-MODIFIED:20250118T190216Z
UID:10000084-1748682000-1748775000@www.therawlscourse.com
SUMMARY:The Rawls Course Mens' Club Championship
DESCRIPTION:The Rawls Course will host its’ Club Championship.  This two-day\, 36-hole stroke play event has four divisions: \n\nOpen Division – contested from the Black Tees.\nHandicapped Division – Contested from the tees that the players’ USGA handicap was established on.\nSenior Division – Contested from the White tees.  Contestant are 50 years of age or older.\nSuper Senior Division – Contested from the White Tees. Contestant are 65 years of age or older.
URL:https://www.therawlscourse.com/event/the-rawls-course-mens-club-championship/
END:VEVENT
BEGIN:VEVENT
DTSTART;TZID=America/Chicago:20250614T090000
DTEND;TZID=America/Chicago:20250615T140000
DTSTAMP:20260425T102856
CREATED:20250118T193001Z
LAST-MODIFIED:20250118T193001Z
UID:10000086-1749891600-1749996000@www.therawlscourse.com
SUMMARY:RMGA SLAT Partnership
DESCRIPTION:The Rawls Mens’ Golf Association is hosting this two-man team event.  The event will begin with a 9:00AM shotgun start each day.  Interested parties should contact Jeff Deitiker for more details.
URL:https://www.therawlscourse.com/event/rmga-slat-partnership/
END:VEVENT
BEGIN:VEVENT
DTSTART;TZID=America/Chicago:20250623T060000
DTEND;TZID=America/Chicago:20250623T190000
DTSTAMP:20260425T102856
CREATED:20250312T150339Z
LAST-MODIFIED:20250312T150419Z
UID:10000093-1750658400-1750705200@www.therawlscourse.com
SUMMARY:Lubbock Association of REALTORS
DESCRIPTION:This is a private event hosted by the Lubbock Association of REALTORS.  It is a double shotgun with times at 7:30AM and 2:00PM.
URL:https://www.therawlscourse.com/event/lubbock-association-of-realtors/
END:VEVENT
BEGIN:VEVENT
DTSTART;TZID=America/Chicago:20250626T073000
DTEND;TZID=America/Chicago:20250626T190000
DTSTAMP:20260425T102856
CREATED:20250303T172825Z
LAST-MODIFIED:20250303T175313Z
UID:10000092-1750923000-1750964400@www.therawlscourse.com
SUMMARY:B5 Foundation
DESCRIPTION:The B5 Foundation is a tournament to fund student scholarships in the memory and legacy of Brittney DaLayne Granger. She is forever in our hearts!  The tournament will have a 7:30AM Shotgun as well as a 2:00PM shotgun.  Come on…get your guns up!! Go Tech!
URL:https://www.therawlscourse.com/event/b5-foundation-2/
END:VEVENT
END:VCALENDAR